3.2500000000
0.0000000000
0.0000000000
-3.2500000000
1028893.1250000000
616026.1250000000
