3.2500000000
0.0000000000
0.0000000000
-3.2500000000
1090994.1250000000
582291.1250000000
