3.2500000000
0.0000000000
0.0000000000
-3.2500000000
1184772.8750000000
547815.1250000000
