3.2500000000
0.0000000000
0.0000000000
-3.2500000000
1089687.6250000000
550525.6250000000
