3.2500000000
0.0000000000
0.0000000000
-3.2500000000
1036280.3750000000
679407.6250000000
