3.2500000000
0.0000000000
0.0000000000
-3.2500000000
1065826.1250000000
614872.3750000000
