3.2500000000
0.0000000000
0.0000000000
-3.2500000000
1006718.3750000000
584930.1250000000
