3.2500000000
0.0000000000
0.0000000000
-3.2500000000
1038279.1250000000
583951.8750000000
