3.2500000000
0.0000000000
0.0000000000
-3.2500000000
1077340.8750000000
646218.6250000000
