3.2500000000
0.0000000000
0.0000000000
-3.2500000000
1044723.8750000000
615548.3750000000
