3.2500000000
0.0000000000
0.0000000000
-3.2500000000
1106863.8750000000
581894.6250000000
