3.2500000000
0.0000000000
0.0000000000
-3.2500000000
1137374.8750000000
549271.1250000000
