1.0000000000
0.0000000000
0.0000000000
-1.0000000000
710529.5000000056
1614609.5000000019
