1.0000000000
0.0000000000
0.0000000000
-1.0000000000
719853.5000000000
1619489.5000000000
