1.0000000000
0.0000000000
0.0000000000
-1.0000000000
794042.5000000000
1607669.5000000000
