6.00000000000000
0.00000000000000
0.00000000000000
-6.00000000000000
1188249.00000000000000
318981.00000000000000
