213.483770161543475
0.000000000000000
0.000000000000000
-213.406672375279328
348841.970245852193329
5428877.744528769515455
