1.0000000000
0.0000000000
0.0000000000
-1.0000000000
654000.5000000002
5337999.5000000000
