1.0000000000
0.0000000000
0.0000000000
-1.0000000000
654000.4999999995
5334999.5000000009
