1.0000000000
0.0000000000
0.0000000000
-1.0000000000
654000.4999999991
5332999.5000000009
