1.0000000000
0.0000000000
0.0000000000
-1.0000000000
653000.4999999991
5329999.5000000000
