1.0000000000
0.0000000000
0.0000000000
-1.0000000000
652000.4999999991
5342121.5000000009
