1.0000000000
0.0000000000
0.0000000000
-1.0000000000
652000.4999999995
5339999.5000000000
