1.0000000000
0.0000000000
0.0000000000
-1.0000000000
652000.5000000004
5331999.5000000009
