1.0000000000
0.0000000000
0.0000000000
-1.0000000000
650000.5000000002
5335999.5000000009
