1.0000000000
0.0000000000
0.0000000000
-1.0000000000
650000.4999999991
5334999.5000000009
