1.0000000000
0.0000000000
0.0000000000
-1.0000000000
650000.4999999990
5332999.5000000000
