1.0000000000
0.0000000000
0.0000000000
-1.0000000000
649000.5000000001
5336999.5000000009
