1.0000000000
0.0000000000
0.0000000000
-1.0000000000
648000.4999999992
5342999.5000000000
