1.0000000000
0.0000000000
0.0000000000
-1.0000000000
647000.5000000006
5341999.5000000000
