1.0000000000
0.0000000000
0.0000000000
-1.0000000000
647000.4999999998
5335999.5000000009
