1.0000000000
0.0000000000
0.0000000000
-1.0000000000
646000.4999999991
5329999.5000000009
