1.0000000000
0.0000000000
0.0000000000
-1.0000000000
646000.5000000004
5327999.5000000009
