1.0000000000
0.0000000000
0.0000000000
-1.0000000000
646000.4999999992
5324999.5000000009
