1.0000000000
0.0000000000
0.0000000000
-1.0000000000
645000.4999999991
5340999.5000000000
