1.0000000000
0.0000000000
0.0000000000
-1.0000000000
645000.5000000000
5329999.5000000000
