1.0000000000
0.0000000000
0.0000000000
-1.0000000000
645000.4999999991
5322999.5000000009
