1.0000000000
0.0000000000
0.0000000000
-1.0000000000
644000.4999999991
5342999.5000000009
