1.0000000000
0.0000000000
0.0000000000
-1.0000000000
644000.4999999992
5333999.5000000009
