1.0000000000
0.0000000000
0.0000000000
-1.0000000000
644000.5000000002
5331999.5000000000
