1.0000000000
0.0000000000
0.0000000000
-1.0000000000
644000.4999999993
5326999.5000000000
