1.0000000000
0.0000000000
0.0000000000
-1.0000000000
644000.5000000001
5325999.5000000019
