1.0000000000
0.0000000000
0.0000000000
-1.0000000000
643000.4999999995
5336999.5000000009
