1.0000000000
0.0000000000
0.0000000000
-1.0000000000
643000.4999999998
5322999.5000000009
