1.0000000000
0.0000000000
0.0000000000
-1.0000000000
642000.4999999997
5327999.5000000000
