1.0000000000
0.0000000000
0.0000000000
-1.0000000000
642000.4999999993
5323999.5000000000
