1.0000000000
0.0000000000
0.0000000000
-1.0000000000
641000.5000000001
5334999.5000000009
