1.0000000000
0.0000000000
0.0000000000
-1.0000000000
641000.4999999993
5332999.5000000009
