1.0000000000
0.0000000000
0.0000000000
-1.0000000000
641000.4999999994
5325999.5000000009
