1.0000000000
0.0000000000
0.0000000000
-1.0000000000
641000.5000000006
5323999.5000000000
